Package: INSPEcT Version: 1.38.0 Command: chmod a+r INSPEcT -R && E:\biocbuild\bbs-3.21-bioc\R\bin\R.exe CMD build --keep-empty-dirs --no-resave-data INSPEcT StartedAt: 2025-08-14 19:52:30 -0400 (Thu, 14 Aug 2025) EndedAt: 2025-08-14 20:01:10 -0400 (Thu, 14 Aug 2025) EllapsedTime: 520.1 seconds RetCode: 0 Status: OK PackageFile: INSPEcT_1.38.0.tar.gz PackageFileSize: 7.045 MiB