Package: INSPEcT Version: 1.38.0 Command: rm -rf INSPEcT.buildbin-libdir && mkdir INSPEcT.buildbin-libdir && E:\biocbuild\bbs-3.21-bioc\R\bin\R.exe CMD INSTALL --build --library=INSPEcT.buildbin-libdir INSPEcT_1.38.0.tar.gz StartedAt: 2025-08-15 09:31:50 -0400 (Fri, 15 Aug 2025) EndedAt: 2025-08-15 09:34:20 -0400 (Fri, 15 Aug 2025) EllapsedTime: 150.0 seconds RetCode: 0 Status: OK PackageFile: INSPEcT_1.38.0.zip PackageFileSize: 7.963 MiB