Package: INSPEcT Version: 1.38.0 Command: /home/biocbuild/bbs-3.21-bioc/R/bin/R CMD check --install=check:INSPEcT.install-out.txt --library=/home/biocbuild/bbs-3.21-bioc/R/site-library --timings INSPEcT_1.38.0.tar.gz StartedAt: 2025-10-16 00:16:23 -0400 (Thu, 16 Oct 2025) EndedAt: 2025-10-16 00:35:16 -0400 (Thu, 16 Oct 2025) EllapsedTime: 1132.7 seconds RetCode: 0 Status: OK CheckDir: INSPEcT.Rcheck Warnings: 0