Package: INSPEcT Version: 1.38.0 Command: /Library/Frameworks/R.framework/Resources/bin/R CMD INSTALL INSPEcT StartedAt: 2025-10-13 16:16:43 -0400 (Mon, 13 Oct 2025) EndedAt: 2025-10-13 16:19:04 -0400 (Mon, 13 Oct 2025) EllapsedTime: 141.4 seconds RetCode: 0 Status: OK