Package: INSPEcT Version: 1.38.0 Command: /home/biocbuild/R/R/bin/R CMD check --install=check:INSPEcT.install-out.txt --library=/home/biocbuild/R/R/site-library --no-vignettes --timings INSPEcT_1.38.0.tar.gz StartedAt: 2025-10-14 10:20:57 -0000 (Tue, 14 Oct 2025) EndedAt: 2025-10-14 10:38:17 -0000 (Tue, 14 Oct 2025) EllapsedTime: 1040.8 seconds RetCode: 0 Status: OK CheckDir: INSPEcT.Rcheck Warnings: 0