Package: INSPEcT Version: 1.38.0 Command: /home/biocbuild/R/R/bin/R CMD build --keep-empty-dirs --no-resave-data INSPEcT StartedAt: 2025-10-14 01:49:25 -0000 (Tue, 14 Oct 2025) EndedAt: 2025-10-14 02:03:10 -0000 (Tue, 14 Oct 2025) EllapsedTime: 824.3 seconds RetCode: 0 Status: OK PackageFile: INSPEcT_1.38.0.tar.gz PackageFileSize: 58.47 MiB