Package: INSPEcT Version: 1.38.0 Command: /Library/Frameworks/R.framework/Resources/bin/R CMD check --install=check:INSPEcT.install-out.txt --library=/Library/Frameworks/R.framework/Resources/library --no-vignettes --timings INSPEcT_1.38.0.tar.gz StartedAt: 2025-10-15 01:02:26 -0400 (Wed, 15 Oct 2025) EndedAt: 2025-10-15 01:15:52 -0400 (Wed, 15 Oct 2025) EllapsedTime: 805.4 seconds RetCode: 0 Status: OK CheckDir: INSPEcT.Rcheck Warnings: 0