Package: INPower Version: 1.44.0 Command: chmod a+r INPower -R && E:\biocbuild\bbs-3.21-bioc\R\bin\R.exe CMD build --keep-empty-dirs --no-resave-data INPower StartedAt: 2025-08-14 19:52:23 -0400 (Thu, 14 Aug 2025) EndedAt: 2025-08-14 19:52:36 -0400 (Thu, 14 Aug 2025) EllapsedTime: 13.1 seconds RetCode: 0 Status: OK PackageFile: INPower_1.44.0.tar.gz PackageFileSize: 66.78 KiB