Package: INPower Version: 1.44.0 Command: rm -rf INPower.buildbin-libdir && mkdir INPower.buildbin-libdir && E:\biocbuild\bbs-3.21-bioc\R\bin\R.exe CMD INSTALL --build --library=INPower.buildbin-libdir INPower_1.44.0.tar.gz StartedAt: 2025-08-15 09:31:48 -0400 (Fri, 15 Aug 2025) EndedAt: 2025-08-15 09:31:56 -0400 (Fri, 15 Aug 2025) EllapsedTime: 7.7 seconds RetCode: 0 Status: OK PackageFile: INPower_1.44.0.zip PackageFileSize: 86.87 KiB