Package: INPower Version: 1.44.0 Command: /Library/Frameworks/R.framework/Resources/bin/R CMD check --install=check:INPower.install-out.txt --library=/Library/Frameworks/R.framework/Resources/library --no-vignettes --timings INPower_1.44.0.tar.gz StartedAt: 2025-10-15 01:02:03 -0400 (Wed, 15 Oct 2025) EndedAt: 2025-10-15 01:02:26 -0400 (Wed, 15 Oct 2025) EllapsedTime: 23.8 seconds RetCode: 0 Status: OK CheckDir: INPower.Rcheck Warnings: 0