Package: INDEED Version: 2.22.0 Command: /Library/Frameworks/R.framework/Resources/bin/R CMD INSTALL INDEED StartedAt: 2025-10-13 15:20:22 -0400 (Mon, 13 Oct 2025) EndedAt: 2025-10-13 15:20:43 -0400 (Mon, 13 Oct 2025) EllapsedTime: 21.0 seconds RetCode: 0 Status: OK