Package: INDEED Version: 2.22.0 Command: /home/biocbuild/R/R/bin/R CMD INSTALL INDEED StartedAt: 2025-10-13 20:22:55 -0000 (Mon, 13 Oct 2025) EndedAt: 2025-10-13 20:23:04 -0000 (Mon, 13 Oct 2025) EllapsedTime: 9.0 seconds RetCode: 0 Status: OK