Package: INDEED Version: 2.22.0 Command: /Library/Frameworks/R.framework/Resources/bin/R CMD build --keep-empty-dirs --no-resave-data INDEED StartedAt: 2025-10-14 02:39:10 -0400 (Tue, 14 Oct 2025) EndedAt: 2025-10-14 02:39:19 -0400 (Tue, 14 Oct 2025) EllapsedTime: 9.2 seconds RetCode: 0 Status: OK PackageFile: INDEED_2.22.0.tar.gz PackageFileSize: 1.857 MiB