Package: INDEED Version: 2.22.0 Command: rm -rf INDEED.buildbin-libdir && mkdir INDEED.buildbin-libdir && /Users/biocbuild/BBS/utils/build-universal.sh INDEED_2.22.0.tar.gz /Library/Frameworks/R.framework/Resources/bin/R INDEED.buildbin-libdir StartedAt: 2025-10-15 18:55:57 -0400 (Wed, 15 Oct 2025) EndedAt: 2025-10-15 18:56:04 -0400 (Wed, 15 Oct 2025) EllapsedTime: 6.7 seconds RetCode: 0 Status: OK PackageFile: INDEED_2.22.0.tgz PackageFileSize: 780.2 KiB