Package: IMPCdata Version: 1.44.0 Command: E:\biocbuild\bbs-3.21-bioc\R\bin\R.exe CMD check --no-multiarch --install=check:IMPCdata.install-out.txt --library=E:\biocbuild\bbs-3.21-bioc\R\library --no-vignettes --timings IMPCdata_1.44.0.tar.gz StartedAt: 2025-08-15 03:16:37 -0400 (Fri, 15 Aug 2025) EndedAt: 2025-08-15 03:17:44 -0400 (Fri, 15 Aug 2025) EllapsedTime: 67.1 seconds RetCode: 0 Status: OK CheckDir: IMPCdata.Rcheck Warnings: 0