Package: IMAS Version: 1.32.0 Command: /Library/Frameworks/R.framework/Resources/bin/R CMD build --keep-empty-dirs --no-resave-data IMAS StartedAt: 2025-09-29 19:51:31 -0400 (Mon, 29 Sep 2025) EndedAt: 2025-09-29 19:55:23 -0400 (Mon, 29 Sep 2025) EllapsedTime: 231.9 seconds RetCode: 1 Status: ERROR PackageFile: None PackageFileSize: NA