Package: ILoReg Version: 1.18.0 Command: /home/biocbuild/bbs-3.21-bioc/R/bin/R CMD INSTALL ILoReg StartedAt: 2025-10-15 15:20:21 -0400 (Wed, 15 Oct 2025) EndedAt: 2025-10-15 15:20:50 -0400 (Wed, 15 Oct 2025) EllapsedTime: 29.7 seconds RetCode: 0 Status: OK