Package: ILoReg Version: 1.18.0 Command: /home/biocbuild/bbs-3.21-bioc/R/bin/R CMD check --install=check:ILoReg.install-out.txt --library=/home/biocbuild/bbs-3.21-bioc/R/site-library --timings ILoReg_1.18.0.tar.gz StartedAt: 2025-10-16 00:14:11 -0400 (Thu, 16 Oct 2025) EndedAt: 2025-10-16 00:21:17 -0400 (Thu, 16 Oct 2025) EllapsedTime: 426.7 seconds RetCode: 0 Status: WARNINGS CheckDir: ILoReg.Rcheck Warnings: 2