Package: IHW Version: 1.36.0 Command: chmod a+r IHW -R && E:\biocbuild\bbs-3.21-bioc\R\bin\R.exe CMD build --keep-empty-dirs --no-resave-data IHW StartedAt: 2025-08-14 19:49:11 -0400 (Thu, 14 Aug 2025) EndedAt: 2025-08-14 19:52:29 -0400 (Thu, 14 Aug 2025) EllapsedTime: 197.7 seconds RetCode: 0 Status: OK PackageFile: IHW_1.36.0.tar.gz PackageFileSize: 1.437 MiB