Package: IHW Version: 1.36.0 Command: /Library/Frameworks/R.framework/Resources/bin/R CMD INSTALL IHW StartedAt: 2025-10-13 15:20:58 -0400 (Mon, 13 Oct 2025) EndedAt: 2025-10-13 15:21:12 -0400 (Mon, 13 Oct 2025) EllapsedTime: 14.3 seconds RetCode: 0 Status: OK