Package: IHW Version: 1.36.0 Command: /Library/Frameworks/R.framework/Resources/bin/R CMD build --keep-empty-dirs --no-resave-data IHW StartedAt: 2025-10-13 19:51:24 -0400 (Mon, 13 Oct 2025) EndedAt: 2025-10-13 19:56:11 -0400 (Mon, 13 Oct 2025) EllapsedTime: 286.5 seconds RetCode: 0 Status: OK PackageFile: IHW_1.36.0.tar.gz PackageFileSize: 4.752 MiB