Package: IHW Version: 1.36.0 Command: /home/biocbuild/R/R/bin/R CMD check --install=check:IHW.install-out.txt --library=/home/biocbuild/R/R/site-library --no-vignettes --timings IHW_1.36.0.tar.gz StartedAt: 2025-10-14 10:18:06 -0000 (Tue, 14 Oct 2025) EndedAt: 2025-10-14 10:19:03 -0000 (Tue, 14 Oct 2025) EllapsedTime: 57.1 seconds RetCode: 0 Status: OK CheckDir: IHW.Rcheck Warnings: 0