Package: IHW Version: 1.36.0 Command: /home/biocbuild/R/R/bin/R CMD build --keep-empty-dirs --no-resave-data IHW StartedAt: 2025-10-14 01:46:30 -0000 (Tue, 14 Oct 2025) EndedAt: 2025-10-14 01:49:25 -0000 (Tue, 14 Oct 2025) EllapsedTime: 175.1 seconds RetCode: 0 Status: OK PackageFile: IHW_1.36.0.tar.gz PackageFileSize: 3.685 MiB