Package: IHW Version: 1.36.0 Command: /Library/Frameworks/R.framework/Resources/bin/R CMD build --keep-empty-dirs --no-resave-data IHW StartedAt: 2025-10-14 02:32:28 -0400 (Tue, 14 Oct 2025) EndedAt: 2025-10-14 02:35:30 -0400 (Tue, 14 Oct 2025) EllapsedTime: 182.0 seconds RetCode: 0 Status: OK PackageFile: IHW_1.36.0.tar.gz PackageFileSize: 4.771 MiB