Package: IFAA Version: 1.10.0 Command: E:\biocbuild\bbs-3.21-bioc\R\bin\R.exe CMD check --no-multiarch --install=check:IFAA.install-out.txt --library=E:\biocbuild\bbs-3.21-bioc\R\library --no-vignettes --timings IFAA_1.10.0.tar.gz StartedAt: 2025-08-15 03:14:30 -0400 (Fri, 15 Aug 2025) EndedAt: 2025-08-15 03:23:41 -0400 (Fri, 15 Aug 2025) EllapsedTime: 551.7 seconds RetCode: 0 Status: OK CheckDir: IFAA.Rcheck Warnings: 0