Package: IFAA Version: 1.10.0 Command: /home/biocbuild/R/R/bin/R CMD check --install=check:IFAA.install-out.txt --library=/home/biocbuild/R/R/site-library --no-vignettes --timings IFAA_1.10.0.tar.gz StartedAt: 2025-09-30 10:46:27 -0000 (Tue, 30 Sep 2025) EndedAt: 2025-09-30 10:56:57 -0000 (Tue, 30 Sep 2025) EllapsedTime: 629.5 seconds RetCode: 0 Status: OK CheckDir: IFAA.Rcheck Warnings: 0