Package: IFAA Version: 1.10.0 Command: /Library/Frameworks/R.framework/Resources/bin/R CMD INSTALL IFAA StartedAt: 2025-09-29 17:00:14 -0400 (Mon, 29 Sep 2025) EndedAt: 2025-09-29 17:00:46 -0400 (Mon, 29 Sep 2025) EllapsedTime: 31.6 seconds RetCode: 0 Status: OK