Package: HybridExpress Version: 1.4.0 Command: chmod a+r HybridExpress -R && E:\biocbuild\bbs-3.21-bioc\R\bin\R.exe CMD build --keep-empty-dirs --no-resave-data HybridExpress StartedAt: 2025-08-14 19:46:49 -0400 (Thu, 14 Aug 2025) EndedAt: 2025-08-14 19:50:06 -0400 (Thu, 14 Aug 2025) EllapsedTime: 196.4 seconds RetCode: 0 Status: OK PackageFile: HybridExpress_1.4.0.tar.gz PackageFileSize: 2.384 MiB