Package: HybridExpress Version: 1.4.0 Command: rm -rf HybridExpress.buildbin-libdir && mkdir HybridExpress.buildbin-libdir && E:\biocbuild\bbs-3.21-bioc\R\bin\R.exe CMD INSTALL --build --library=HybridExpress.buildbin-libdir HybridExpress_1.4.0.tar.gz StartedAt: 2025-08-15 09:30:14 -0400 (Fri, 15 Aug 2025) EndedAt: 2025-08-15 09:31:13 -0400 (Fri, 15 Aug 2025) EllapsedTime: 59.5 seconds RetCode: 0 Status: OK PackageFile: HybridExpress_1.4.0.zip PackageFileSize: 2.439 MiB