Package: HybridExpress Version: 1.4.0 Command: /home/biocbuild/R/R/bin/R CMD INSTALL HybridExpress StartedAt: 2025-10-13 20:34:26 -0000 (Mon, 13 Oct 2025) EndedAt: 2025-10-13 20:35:03 -0000 (Mon, 13 Oct 2025) EllapsedTime: 36.5 seconds RetCode: 0 Status: OK