Package: HybridExpress Version: 1.4.0 Command: /home/biocbuild/R/R/bin/R CMD check --install=check:HybridExpress.install-out.txt --library=/home/biocbuild/R/R/site-library --no-vignettes --timings HybridExpress_1.4.0.tar.gz StartedAt: 2025-10-07 10:31:36 -0000 (Tue, 07 Oct 2025) EndedAt: 2025-10-07 10:36:42 -0000 (Tue, 07 Oct 2025) EllapsedTime: 305.4 seconds RetCode: 0 Status: OK CheckDir: HybridExpress.Rcheck Warnings: 0