Package: HuBMAPR Version: 1.2.2 Command: /home/biocbuild/bbs-3.21-bioc/R/bin/R CMD INSTALL HuBMAPR StartedAt: 2025-10-15 15:08:11 -0400 (Wed, 15 Oct 2025) EndedAt: 2025-10-15 15:08:16 -0400 (Wed, 15 Oct 2025) EllapsedTime: 4.7 seconds RetCode: 0 Status: OK