Package: HuBMAPR Version: 1.2.2 Command: /home/biocbuild/bbs-3.21-bioc/R/bin/R CMD check --install=check:HuBMAPR.install-out.txt --library=/home/biocbuild/bbs-3.21-bioc/R/site-library --timings HuBMAPR_1.2.2.tar.gz StartedAt: 2025-10-16 00:09:47 -0400 (Thu, 16 Oct 2025) EndedAt: 2025-10-16 00:12:20 -0400 (Thu, 16 Oct 2025) EllapsedTime: 153.2 seconds RetCode: 1 Status: ERROR CheckDir: HuBMAPR.Rcheck Warnings: NA