Package: HoloFoodR Version: 1.2.0 Command: E:\biocbuild\bbs-3.21-bioc\R\bin\R.exe CMD check --no-multiarch --install=check:HoloFoodR.install-out.txt --library=E:\biocbuild\bbs-3.21-bioc\R\library --no-vignettes --timings HoloFoodR_1.2.0.tar.gz StartedAt: 2025-08-15 03:09:39 -0400 (Fri, 15 Aug 2025) EndedAt: 2025-08-15 03:14:19 -0400 (Fri, 15 Aug 2025) EllapsedTime: 279.6 seconds RetCode: 0 Status: OK CheckDir: HoloFoodR.Rcheck Warnings: 0