Package: HoloFoodR Version: 1.2.0 Command: /Library/Frameworks/R.framework/Resources/bin/R CMD build --keep-empty-dirs --no-resave-data HoloFoodR StartedAt: 2025-10-13 19:46:59 -0400 (Mon, 13 Oct 2025) EndedAt: 2025-10-13 19:51:47 -0400 (Mon, 13 Oct 2025) EllapsedTime: 288.7 seconds RetCode: 0 Status: OK PackageFile: HoloFoodR_1.2.0.tar.gz PackageFileSize: 3.113 MiB