Package: HilbertVis Version: 1.66.1 Command: chmod a+r HilbertVis -R && E:\biocbuild\bbs-3.21-bioc\R\bin\R.exe CMD build --keep-empty-dirs --no-resave-data HilbertVis StartedAt: 2025-08-14 19:44:30 -0400 (Thu, 14 Aug 2025) EndedAt: 2025-08-14 19:44:46 -0400 (Thu, 14 Aug 2025) EllapsedTime: 16.5 seconds RetCode: 0 Status: OK PackageFile: HilbertVis_1.66.1.tar.gz PackageFileSize: 1018 KiB