Package: HilbertVis Version: 1.66.1 Command: /Library/Frameworks/R.framework/Resources/bin/R CMD build --keep-empty-dirs --no-resave-data HilbertVis StartedAt: 2025-10-14 02:20:21 -0400 (Tue, 14 Oct 2025) EndedAt: 2025-10-14 02:20:36 -0400 (Tue, 14 Oct 2025) EllapsedTime: 14.7 seconds RetCode: 0 Status: OK PackageFile: HilbertVis_1.66.1.tar.gz PackageFileSize: 1.206 MiB