Package: HilbertVis Version: 1.66.1 Command: rm -rf HilbertVis.buildbin-libdir && mkdir HilbertVis.buildbin-libdir && /Users/biocbuild/BBS/utils/build-universal.sh HilbertVis_1.66.1.tar.gz /Library/Frameworks/R.framework/Resources/bin/R HilbertVis.buildbin-libdir StartedAt: 2025-10-15 18:52:07 -0400 (Wed, 15 Oct 2025) EndedAt: 2025-10-15 18:52:12 -0400 (Wed, 15 Oct 2025) EllapsedTime: 5.6 seconds RetCode: 0 Status: OK PackageFile: HilbertVis_1.66.1.tgz PackageFileSize: 1.118 MiB