Package: HicAggR Version: 1.4.0 Command: E:\biocbuild\bbs-3.21-bioc\R\bin\R.exe CMD INSTALL HicAggR StartedAt: 2025-08-14 16:33:13 -0400 (Thu, 14 Aug 2025) EndedAt: 2025-08-14 16:34:00 -0400 (Thu, 14 Aug 2025) EllapsedTime: 47.2 seconds RetCode: 0 Status: OK