Package: HiTC Version: 1.52.0 Command: rm -rf HiTC.buildbin-libdir && mkdir HiTC.buildbin-libdir && E:\biocbuild\bbs-3.21-bioc\R\bin\R.exe CMD INSTALL --build --library=HiTC.buildbin-libdir HiTC_1.52.0.tar.gz StartedAt: 2025-08-15 09:29:38 -0400 (Fri, 15 Aug 2025) EndedAt: 2025-08-15 09:30:58 -0400 (Fri, 15 Aug 2025) EllapsedTime: 79.9 seconds RetCode: 0 Status: OK PackageFile: HiTC_1.52.0.zip PackageFileSize: 3.559 MiB