Package: HiLDA Version: 1.22.0 Command: /home/biocbuild/bbs-3.21-bioc/R/bin/R CMD INSTALL HiLDA StartedAt: 2025-10-15 15:59:22 -0400 (Wed, 15 Oct 2025) EndedAt: 2025-10-15 15:59:40 -0400 (Wed, 15 Oct 2025) EllapsedTime: 18.0 seconds RetCode: 0 Status: OK