Package: HiLDA Version: 1.22.0 Command: /home/biocbuild/bbs-3.21-bioc/R/bin/R CMD build --keep-empty-dirs --no-resave-data HiLDA StartedAt: 2025-10-15 17:59:50 -0400 (Wed, 15 Oct 2025) EndedAt: 2025-10-15 18:03:01 -0400 (Wed, 15 Oct 2025) EllapsedTime: 191.2 seconds RetCode: 0 Status: OK PackageFile: HiLDA_1.22.0.tar.gz PackageFileSize: 2.456 MiB