Package: HiLDA Version: 1.22.0 Command: /home/biocbuild/R/R/bin/R CMD INSTALL HiLDA StartedAt: 2025-10-13 21:19:26 -0000 (Mon, 13 Oct 2025) EndedAt: 2025-10-13 21:19:27 -0000 (Mon, 13 Oct 2025) EllapsedTime: 1.0 seconds RetCode: 1 Status: ERROR