Package: HiLDA Version: 1.22.0 Command: /Library/Frameworks/R.framework/Resources/bin/R CMD check --install=check:HiLDA.install-out.txt --library=/Library/Frameworks/R.framework/Resources/library --no-vignettes --timings HiLDA_1.22.0.tar.gz StartedAt: 2025-10-15 00:31:20 -0400 (Wed, 15 Oct 2025) EndedAt: 2025-10-15 00:35:33 -0400 (Wed, 15 Oct 2025) EllapsedTime: 253.1 seconds RetCode: 0 Status: OK CheckDir: HiLDA.Rcheck Warnings: 0