Package: HiCool Version: 1.8.0 Command: /home/biocbuild/bbs-3.21-bioc/R/bin/R CMD check --install=check:HiCool.install-out.txt --library=/home/biocbuild/bbs-3.21-bioc/R/site-library --timings HiCool_1.8.0.tar.gz StartedAt: 2025-10-16 00:05:07 -0400 (Thu, 16 Oct 2025) EndedAt: 2025-10-16 00:11:50 -0400 (Thu, 16 Oct 2025) EllapsedTime: 403.6 seconds RetCode: 0 Status: OK CheckDir: HiCool.Rcheck Warnings: 0