Package: HiCool Version: 1.8.0 Command: /Library/Frameworks/R.framework/Resources/bin/R CMD INSTALL HiCool StartedAt: 2025-10-13 15:46:14 -0400 (Mon, 13 Oct 2025) EndedAt: 2025-10-13 15:47:06 -0400 (Mon, 13 Oct 2025) EllapsedTime: 51.4 seconds RetCode: 0 Status: OK