Package: HiCool Version: 1.8.0 Command: /Library/Frameworks/R.framework/Resources/bin/R CMD build --keep-empty-dirs --no-resave-data HiCool StartedAt: 2025-10-13 19:43:47 -0400 (Mon, 13 Oct 2025) EndedAt: 2025-10-13 19:47:55 -0400 (Mon, 13 Oct 2025) EllapsedTime: 248.0 seconds RetCode: 0 Status: OK PackageFile: HiCool_1.8.0.tar.gz PackageFileSize: 702.1 KiB