Package: HiCool Version: 1.8.0 Command: rm -rf HiCool.buildbin-libdir && mkdir HiCool.buildbin-libdir && /Users/biocbuild/BBS/utils/build-universal.sh HiCool_1.8.0.tar.gz /Library/Frameworks/R.framework/Resources/bin/R HiCool.buildbin-libdir StartedAt: 2025-10-14 13:42:51 -0400 (Tue, 14 Oct 2025) EndedAt: 2025-10-14 13:44:17 -0400 (Tue, 14 Oct 2025) EllapsedTime: 86.1 seconds RetCode: 0 Status: OK PackageFile: HiCool_1.8.0.tgz PackageFileSize: 730.2 KiB