Package: HiCool Version: 1.8.0 Command: /home/biocbuild/R/R/bin/R CMD INSTALL HiCool StartedAt: 2025-10-13 20:39:14 -0000 (Mon, 13 Oct 2025) EndedAt: 2025-10-13 20:39:45 -0000 (Mon, 13 Oct 2025) EllapsedTime: 31.0 seconds RetCode: 0 Status: OK