Package: HiCool Version: 1.8.0 Command: /Library/Frameworks/R.framework/Resources/bin/R CMD build --keep-empty-dirs --no-resave-data HiCool StartedAt: 2025-10-14 02:16:35 -0400 (Tue, 14 Oct 2025) EndedAt: 2025-10-14 02:17:59 -0400 (Tue, 14 Oct 2025) EllapsedTime: 84.3 seconds RetCode: 1 Status: ERROR PackageFile: None PackageFileSize: NA